BEGIN:VCALENDAR
VERSION:2.0
PRODID:spatie/icalendar-generator
DESCRIPTION:Events from Woodland Hills
X-WR-CALDESC:Events from Woodland Hills
REFRESH-INTERVAL;VALUE=DURATION:PT1440M
X-PUBLISHED-TTL:PT1440M
BEGIN:VTIMEZONE
TZID:Etc/GMT+0
BEGIN:STANDARD
DTSTART:20230513T000000Z
TZOFFSETFROM:+0000
TZOFFSETTO:+0000
END:STANDARD
END:VTIMEZONE
BEGIN:VTIMEZONE
TZID:UTC
BEGIN:STANDARD
DTSTART:20250726T103319Z
TZOFFSETFROM:+0000
TZOFFSETTO:+0000
END:STANDARD
END:VTIMEZONE
BEGIN:VEVENT
UID:77-72
DTSTAMP:20260422T103319Z
SUMMARY:Hudson ISD Girls Golf Tournament
LOCATION:
ORGANIZER;CN=WoodlandHills Edit:MAILTO:dylanpedersen10@gmail.com
DTSTART;TZID=Etc/GMT+0:20240207T000000
DTEND;TZID=Etc/GMT+0:20240207T010000
X-ALT-DESC;FMTTYPE=TEXT/HTML:
CATEGORIES:General
URL;VALUE=URI:https://woodlandhillsgolfclub.com/mc-events/hudson-isd-girls-
 golf-tournament/
METHOD:PUBLISH
END:VEVENT
END:VCALENDAR