BEGIN:VCALENDAR
VERSION:2.0
PRODID:spatie/icalendar-generator
DESCRIPTION:Events from Woodland Hills
X-WR-CALDESC:Events from Woodland Hills
REFRESH-INTERVAL;VALUE=DURATION:PT1440M
X-PUBLISHED-TTL:PT1440M
BEGIN:VTIMEZONE
TZID:Etc/GMT+0
BEGIN:STANDARD
DTSTART:20220117T000000Z
TZOFFSETFROM:+0000
TZOFFSETTO:+0000
END:STANDARD
END:VTIMEZONE
BEGIN:VTIMEZONE
TZID:UTC
BEGIN:STANDARD
DTSTART:20250728T155749Z
TZOFFSETFROM:+0000
TZOFFSETTO:+0000
END:STANDARD
END:VTIMEZONE
BEGIN:VEVENT
UID:40-39
DTSTAMP:20260424T155749Z
SUMMARY:25th Annual Blue Berry Golf Bash
LOCATION:
ORGANIZER;CN=WoodlandHills Edit:MAILTO:dylanpedersen10@gmail.com
DTSTART;TZID=Etc/GMT+0:20221014T000000
DTEND;TZID=Etc/GMT+0:20221014T010000
X-ALT-DESC;FMTTYPE=TEXT/HTML:
CATEGORIES:General
URL;VALUE=URI:https://woodlandhillsgolfclub.com/mc-events/25th-annual-blue-
 berry-golf-bash/
METHOD:PUBLISH
END:VEVENT
END:VCALENDAR